BEGIN:VCALENDAR
PRODID:NingEventWidget-v1
VERSION:2.0
METHOD:PUBLISH
BEGIN:VEVENT
UID:4320450:Event:56542
DTSTAMP:20260425T130614Z
SUMMARY:New Year's Cruises Aboard Spirit
DESCRIPTION:The New Year’s Eve and New Year’s Day Lunch and Brunch
  Cruises are memorable ways to send off 2018 or welcome in 2019.  The
  New Year’s Eve Lunch Cruise boards at 11:30 pm and cruises from 12 
 – 2 pm. Tickets are $39.90 for adults and $29.90 for children. The N
 ew Year’s Day Brunch Cruise gives party goers from the night before 
 a little extra time by boarding at 12:30 pm and cruising from 1 – 3 
 pm. Tickets for each brunch cruise start at $44.90 (not including grat
 uity or alcohol) for adults and $29.90 for kids.\nFor those who don’
 t usually make it to midnight, hop on the Early New Year’s Eve Firew
 orks Dinner Cruise. Tickets for the early cruise begin at $109.90 (not
  including gratuity or alcohol) for adults and $69.90 for kids. Guests
  will cruise from 4:30 – 6:30 pm, with boarding beginning at 4 pm.\n
 The late-night crowd can purchase tickets for the New Year’s Eve Fir
 eworks Dinner Cruise. Tickets start at $189.90. Boarding begins at 8:3
 0 pm and the ship cruises the Delaware River from 9:30 pm to 12:30 am 
 into 2019.\n\nFor more information visit http://phillytodo.com/events/
 new-year-s-cruises-aboard-spirit
DTSTART:20181231T220000Z
DTEND:20190101T200000Z
CATEGORIES:cruise
LOCATION:Penn's Landing
WEBSITE:https://www.spiritcruises.com/philadelphia/cruises/holiday/new
 -years-cruises
URL:https://www.spiritcruises.com/philadelphia/cruises/holiday/new-yea
 rs-cruises
CONTACT:
ORGANIZER;CN="Bryan Chan":http://phillytodo.com/profile/BryanChan
ATTACH;FMTTYPE="image/jpeg":https://storage.ning.com/topology/rest/1.0
 /file/get/181986320?profile=original
ATTENDEE;ROLE=REQ-PARTICIPANT;PARTSTAT=ACCEPTED;RSVP=TRUE;CN="Bryan Ch
 an":http://phillytodo.com/profile/BryanChan
END:VEVENT
END:VCALENDAR
