BEGIN:VCALENDAR
PRODID:NingEventWidget-v1
VERSION:2.0
METHOD:PUBLISH
BEGIN:VEVENT
UID:4320450:Event:992
DTSTAMP:20260425T114225Z
SUMMARY:New Junglist Massive Presents... Droppin Science
DESCRIPTION:The New Junglist Massive presents... Droppin Science!\nA n
 ew and original monthly event for those with a passionate taste for Ju
 ngle/ Drum n Bass and Dubstep music. NJM will be showcasing headliners
  from around the world in addition to supporting the finest local Jung
 le, DnB & Dubstep acts. Prepare to be indulged in an evening of the fr
 esh and uplifting sounds NJM is sure to provide. Specially administere
 d to satisfy mature audience only, these events are strictly 21+.\n\nT
 his will be a monthly event every last Friday starting February 26 201
 0 at The Arts Garage! (www.theartsgarage.com)\n\nThere will be drink s
 pecials and an open grill all night long!\nPlenty of free parking next
  to and around venue.\n\nYour artist's for the night:\n\nDefining mome
 nts-Ontario ,Can:\nLiquid DnB\nHektic Kru,Cyntax Errors,Sound Solution
 s,dreadnaught digital,Padded Cell,Digital Terror\n\nDefining moments i
 s the liquid side project of Mischief and Mayhem, a prime collaboratio
 n that has surged the DnB industry, taking no prisoners. Founders of t
 he Hektic Kru, each comes correct with equally monumental DJ and produ
 ction careers. This duo is well known on all corners of the map, boast
 ing releases on Rapid Fire Records (Canada), Cyntax Errors (UK), and S
 ound Solution Records (USA). The prize-winning brothers, from Ontario,
  were the recipients of “Best Breakthrough Producer(s)” at the 200
 8 Toronto DnB Awards. Mischief has been in the game for over 13 years 
 and brings his sick scratching techniques to the tables while Mayhem d
 isplays his production skills. These heavy talents have been known to 
 spin just about any genre from Dubstep to Jump-up to liquid funk. It i
 s our great pleasure to have them play liquid, a style of music manife
 sting in the fusion of soulful vocals with intelligent harmonies layer
 ed over the familiar baselines of DnB. Defining Moments will not only 
 provide an epic performance, they are destined to create an entire atm
 osphere full of deep and meaningful moments for your enjoyment.\n\nJ-D
 astardly - DC\nDnB/Jungle\nDigital Conspiracy,Good Vibes,Trigga Happy:
 \n\nJustin Hunt AKA J-Dastardly has only been putting in work for 4 ye
 ars and already he has become a well known face in the DC, Baltimore a
 nd Philly dance music scenes. His eclectic taste in music shines brigh
 tly when he performs, always leaving the audience wondering what they'
 ll here next. Not content with being just another drum and bass DJ, JD
  branched out into other genres including breaks, electro, hardcore, d
 ubstep and hip hop. His ability to move seamlessly between genres and 
 the energy he shares with the crowd have earned him much praise from c
 rowds. He is also one half of the hardcore tag duo, Trigga Happy. Mixe
 s can be found at www.soundcloud.com/j-dastardly.\n\nDj Self-Philly\nL
 iquid DnB/Dubwise\nFrontline Kingpins,Konkrete Jungle Philly,NJM\n\nCo
 ry B-Philly\nJungle/Dubstep\nDefcon, Infinite knowledge,Concept Crew\n
 \nDub-C-Philly\nopening with an old school jungle set!\nKonkrete Jungl
 e Philly,Gba,NJM\n\nsound by nobi\n\n21+ event 9pm-???\n\nThe Arts Gar
 age\n1533 Ridge Avenue\nPhiladelphia, PA 19130\n(215) 765-2702\n\n$5 b
 efore 10:30 $10 after\njoin us for this special evening.\n\nFor more i
 nformation visit http://phillytodo.com/events/new-junglist-massive-pre
 sents
DTSTART:20100227T020000Z
DTEND:20100227T070000Z
CATEGORIES:dance, party
LOCATION:The Arts Garage
WEBSITE:http://www.theartsgarage.com
URL:http://www.theartsgarage.com
CONTACT:(215) 765-2702
ORGANIZER:Anthony Pena
ATTACH;FMTTYPE="image/jpeg":http://storage.ning.com/topology/rest/1.0/
 file/get/3054943325?profile=original
ATTENDEE;ROLE=REQ-PARTICIPANT;PARTSTAT=ACCEPTED;RSVP=TRUE;CN=Nyx:http:
 //phillytodo.com/profile/Nyx
ATTENDEE;ROLE=REQ-PARTICIPANT;PARTSTAT=ACCEPTED;RSVP=TRUE;CN="anthony 
 pena":http://phillytodo.com/profile/anthonypena
END:VEVENT
END:VCALENDAR
