BEGIN:VCALENDAR
PRODID:NingEventWidget-v1
VERSION:2.0
METHOD:PUBLISH
BEGIN:VEVENT
UID:4320450:Event:26801
DTSTAMP:20260425T145354Z
SUMMARY:New Jersey Motorsports Park hosts ChumpCar Saturday, June 2, 2
 012
DESCRIPTION: \nChumpCar is North America’s home for $500 race cars 
 and REAL endurance road racing. Real racing, real tracks, real drivers
  and really cheap cars!  ChumpCar is a throw-back to the era when rac
 ing was fun and cheap…when Bondo beat carbon-fiber; when a crescent 
 wrench was the most valuable tool in your box; when home-made engineer
 ing made everyone sit up and take notice; and when adding a little the
 me to your car didn’t get you laughed off of pit lane. For this even
 t children 12 years old and younger are FREE! Tickets at http://www.nj
 mp.com/tickets.html or 856-327-7217.\n\nFor more information visit htt
 p://phillytodo.com/events/new-jersey-motorsports-park-hosts-chumpcar-s
 aturday-june-2-2012
DTSTART:20120602T040000Z
DTEND:20120603T035900Z
CATEGORIES:motorsports
LOCATION:New Jersey Motorsports Park
WEBSITE:http://www.njmp.com
URL:http://www.njmp.com
CONTACT:856-327-7265
ORGANIZER;CN="New Jersey Motorsports Park":http://phillytodo.com/profi
 le/NewJerseyMotorsportsPark
ATTACH;FMTTYPE="image/jpeg":
ATTENDEE;ROLE=REQ-PARTICIPANT;PARTSTAT=ACCEPTED;RSVP=TRUE;CN="New Jers
 ey Motorsports Park":http://phillytodo.com/profile/NewJerseyMotorsport
 sPark
END:VEVENT
END:VCALENDAR
