BEGIN:VCALENDAR
PRODID:NingEventWidget-v1
VERSION:2.0
METHOD:PUBLISH
BEGIN:VEVENT
UID:4320450:Event:613
DTSTAMP:20260425T142549Z
SUMMARY:Nehst Studios Premiere Screening of Running The Sahara
DESCRIPTION:Narrated and produced by Academy Award winner Matt Damon a
 nd directed by Academy Award winner James Moll, Running The Sahara doc
 uments the physically and mentally grueling journey of three men as th
 ey attempt to be the first people to run across the world's largest de
 sert. Additionally, this inspirational film also calls attention to th
 e clean water crisis in Africa.\n\nThe Nehst Out Experience treats all
  guests as a VIP and includes a \"swag bag\" complete with a DVD of th
 e movie and an invitation to post-screening Q&A with one of the film's
  stars.\n\nAdmission is $15 for students with valid identification and
  $25 in advance; $35 at the door. To reserve a seat, please visit the 
 box office at nehst.com. Discounted rates are also available for group
 s of 15 or more in advance.\n\nFor more information visit http://phill
 ytodo.com/events/nehst-studios-premiere
DTSTART:20100113T003000Z
DTEND:20100113T030000Z
CATEGORIES:film, premiere
LOCATION:The Ritz at the Bourse
WEBSITE:
URL:
CONTACT:
ORGANIZER:
ATTACH;FMTTYPE="image/jpeg":http://storage.ning.com/topology/rest/1.0/
 file/get/3054942588?profile=original
ATTENDEE;ROLE=REQ-PARTICIPANT;PARTSTAT=ACCEPTED;RSVP=TRUE;CN="Amanda K
 aster":http://phillytodo.com/profile/AmandaKaster
END:VEVENT
END:VCALENDAR
