BEGIN:VCALENDAR
PRODID:NingEventWidget-v1
VERSION:2.0
METHOD:PUBLISH
BEGIN:VEVENT
UID:4320450:Event:953
DTSTAMP:20260425T112520Z
SUMMARY:Negro Baseball Leagues
DESCRIPTION:Author and filmmaker, Byron Motley, son of a Negro League 
 umpire, presents the history, memories and personal stories of the Neg
 ro Baseball Leagues from his soon-to-be released documentary.\n\nFor m
 ore information visit http://phillytodo.com/events/negro-baseball-leag
 ues
DTSTART:20100219T000000Z
DTEND:20100219T020000Z
CATEGORIES:educational, program
LOCATION:Gateway Auditorium, Bucks County Community College
WEBSITE:http://www.bucks.edu
URL:http://www.bucks.edu
CONTACT:215-968-8015
ORGANIZER;CN="Natalie Kaye":http://phillytodo.com/profile/NatalieKaye
ATTACH;FMTTYPE="image/jpeg":
ATTENDEE;ROLE=REQ-PARTICIPANT;PARTSTAT=ACCEPTED;RSVP=TRUE;CN="Natalie 
 Kaye":http://phillytodo.com/profile/NatalieKaye
END:VEVENT
END:VCALENDAR
