BEGIN:VCALENDAR
PRODID:NingEventWidget-v1
VERSION:2.0
METHOD:PUBLISH
BEGIN:VEVENT
UID:4320450:Event:35169
DTSTAMP:20260425T155104Z
SUMMARY:Naughty or Nice Christmas Party
DESCRIPTION:Santa's job is done and now we really know who's been naug
 hty and who's been nice. Extend the holiday celebrations and come part
 y with the naughty ones! You might even find yourself under some mistl
 etoe. Our Resident DJs Mo Kobeissi & Romeo White will keep you dancin
 g until the lights go on. They'll be spinning your favorites and the l
 atest EDM.\n\nFor more information visit http://phillytodo.com/events/
 naughty-or-nice-christmas-party
DTSTART:20131226T020000Z
DTEND:20131226T070000Z
CATEGORIES:christmas, party
LOCATION:Infusion Lounge
WEBSITE:http://www.infusionlounge.com
URL:http://www.infusionlounge.com
CONTACT:267-908-4009
ORGANIZER:
ATTACH;FMTTYPE="image/jpeg":http://storage.ning.com/topology/rest/1.0/
 file/get/3054970728?profile=original
ATTENDEE;ROLE=REQ-PARTICIPANT;PARTSTAT=ACCEPTED;RSVP=TRUE;CN="Melissa 
 Cerminara":http://phillytodo.com/profile/MelissaCerminara
END:VEVENT
END:VCALENDAR
