BEGIN:VCALENDAR
PRODID:NingEventWidget-v1
VERSION:2.0
METHOD:PUBLISH
BEGIN:VEVENT
UID:4320450:Event:49623
DTSTAMP:20260425T175806Z
SUMMARY:Naturepalooza! A Family Earth Day Festival
DESCRIPTION:pend Earth Day with us at our annual family festival withÂ
  science activities , food trucks, hikes, crafts, and a fort-building 
 competition! Kathy Oâ€™Connell, from WXPNâ€™s Kids Corner, will join u
 s to host a Nature RadioÂ with music, nature trivia, and more.\n\nFor 
 more information visit http://phillytodo.com/events/naturepalooza-a-fa
 mily-earth-day-festival
DTSTART:20170422T140000Z
DTEND:20170422T180000Z
CATEGORIES:family
LOCATION:Schuylkill Center
WEBSITE:http://www.schuylkillcenter.org/blog/event/naturepalooza-a-fam
 ily-earth-day-festival/
URL:http://www.schuylkillcenter.org/blog/event/naturepalooza-a-family-
 earth-day-festival/
CONTACT:215-482-7300
ORGANIZER;CN="The Schuylkill Center":http://phillytodo.com/profile/Ann
 aLehrMueser
ATTACH;FMTTYPE="image/jpeg":http://storage.ning.com/topology/rest/1.0/
 file/get/3055003159?profile=original
ATTENDEE;ROLE=REQ-PARTICIPANT;PARTSTAT=ACCEPTED;RSVP=TRUE;CN="The Schu
 ylkill Center":http://phillytodo.com/profile/AnnaLehrMueser
END:VEVENT
END:VCALENDAR
