BEGIN:VCALENDAR
PRODID:NingEventWidget-v1
VERSION:2.0
METHOD:PUBLISH
BEGIN:VEVENT
UID:4320450:Event:38329
DTSTAMP:20260425T125028Z
SUMMARY:Nature Preschool Open House
DESCRIPTION:Find out more about the Schuylkill Center's unique Nature
  Preschool for children ages 3 – 5.  Visit preschool classrooms, me
 et the preschool’s director, learn about our curriculum and schedule
 , ask questions, and pick up a registration packet.  Bring your child
 ren – we’ll have activities to engage them.\n\nFor more informatio
 n visit http://phillytodo.com/events/nature-preschool-open-house
DTSTART:20141106T233000Z
DTEND:20141107T003000Z
CATEGORIES:preschool, open, house
LOCATION:Schuylkill Center for Environmental Education
WEBSITE:http://www.schuylkillcenter.org/
URL:http://www.schuylkillcenter.org/
CONTACT:215-482-7300
ORGANIZER;CN="The Schuylkill Center":http://phillytodo.com/profile/Ann
 aLehrMueser
ATTACH;FMTTYPE="image/jpeg":http://storage.ning.com/topology/rest/1.0/
 file/get/3054979756?profile=original
ATTENDEE;ROLE=REQ-PARTICIPANT;PARTSTAT=ACCEPTED;RSVP=TRUE;CN="The Schu
 ylkill Center":http://phillytodo.com/profile/AnnaLehrMueser
END:VEVENT
END:VCALENDAR
