BEGIN:VCALENDAR
PRODID:NingEventWidget-v1
VERSION:2.0
METHOD:PUBLISH
BEGIN:VEVENT
UID:4320450:Event:54212
DTSTAMP:20260425T125813Z
SUMMARY:Nature Preschool Open House
DESCRIPTION:Learn about the curriculum, philosophy, and values of the 
 Schuylkill Center's nature-based preschool and kindergarten progra
 m. You can meet the teachers, tour the classrooms, and find out what a
  day looks like at Nature Preschool.\nThe Center's progressive, child-
 led program uses emergent curriculum and nature to prepare children fo
 r the academic, social, and emotional rigors of school.\n\nFor more in
 formation visit http://phillytodo.com/events/nature-preschool-open-hou
 se-5
DTSTART:20180125T233000Z
DTEND:20180126T003000Z
CATEGORIES:open, house
LOCATION:The Schuylkill Center for Environmental Education
WEBSITE:http://www.schuylkillcenter.org/blog/event/nature-preschool-op
 en-house-13/
URL:http://www.schuylkillcenter.org/blog/event/nature-preschool-open-h
 ouse-13/
CONTACT:2154827300
ORGANIZER:8480 Hagy's Mill Road
ATTACH;FMTTYPE="image/jpeg":http://storage.ning.com/topology/rest/1.0/
 file/get/3055010002?profile=original
ATTENDEE;ROLE=REQ-PARTICIPANT;PARTSTAT=ACCEPTED;RSVP=TRUE;CN="The Schu
 ylkill Center":http://phillytodo.com/profile/AnnaLehrMueser
END:VEVENT
END:VCALENDAR
