BEGIN:VCALENDAR
PRODID:NingEventWidget-v1
VERSION:2.0
METHOD:PUBLISH
BEGIN:VEVENT
UID:4320450:Event:47230
DTSTAMP:20260425T155104Z
SUMMARY:Nature Preschool Open House
DESCRIPTION:Learn all about our nature-based preschool program, for ag
 es 3 – 5.  Explore the curriculum, philosophy, and values of our Na
 ture Preschool, meet the teachers, and tour the classrooms.  Children
  are welcome to attend – we’ll have activities to engage them.\n\n
 For more information visit http://phillytodo.com/events/nature-prescho
 ol-open-house-3
DTSTART:20161103T223000Z
DTEND:20161103T233000Z
CATEGORIES:family, "open house"
LOCATION:The Schuylkill Center
WEBSITE:http://Learn all about our nature-based preschool program, for
  ages 3 – 5.  Explore the curriculum, philosophy, and values of our 
 Nature Preschool, meet the teachers, and tour the classrooms.  Childre
 n are welcome to attend – we’ll have activities to engage them.
URL:http://Learn all about our nature-based preschool program, for age
 s 3 – 5.  Explore the curriculum, philosophy, and values of our Natu
 re Preschool, meet the teachers, and tour the classrooms.  Children ar
 e welcome to attend – we’ll have activities to engage them.
CONTACT:215-482-7300
ORGANIZER;CN="The Schuylkill Center":http://phillytodo.com/profile/Ann
 aLehrMueser
ATTACH;FMTTYPE="image/jpeg":http://storage.ning.com/topology/rest/1.0/
 file/get/3054998474?profile=original
ATTENDEE;ROLE=REQ-PARTICIPANT;PARTSTAT=ACCEPTED;RSVP=TRUE;CN="The Schu
 ylkill Center":http://phillytodo.com/profile/AnnaLehrMueser
END:VEVENT
END:VCALENDAR
