BEGIN:VCALENDAR
PRODID:NingEventWidget-v1
VERSION:2.0
METHOD:PUBLISH
BEGIN:VEVENT
UID:4320450:Event:2124
DTSTAMP:20260425T191142Z
SUMMARY:Natural Pet Expo
DESCRIPTION:Natural Pet Expo - Sunday, October 3, 2010 10am-5pm\nLiber
 ties Walk at 2nd & American Streets, Northern Liberties, Philadelphia,
  PA\nSatisfy your NATURAL curiosity at the Natural Pet Expo – Featur
 ing “Ask the Vet” with Dr. Deva Khalsa, Author of Natural Dog.\n\n
 Plus many natural, holistic and organic Pet Businesses & Services * We
 llness Experts * Animal Adoption & Rescue*PetParade * Raffles*PetConte
 sts *KidsKorner * Samples* Entertainment & Fun!\n\nAdmission is FREE
  the Experience is PRICELESS!\nVisit www.NaturalPetExpo.net for more 
 information\n\nInterested vendors please email us for more information
  at NaturalPetExpo@live.com\n\nFor more information visit http://phill
 ytodo.com/events/natural-pet-expo
DTSTART:20101003T140000Z
DTEND:20101003T210000Z
CATEGORIES:outdoor, natural, pet, event
LOCATION:Liberties Walk, Northern Liberties, Philadelphia, PA
WEBSITE:http://www.naturalpetexpo.net/
URL:http://www.naturalpetexpo.net/
CONTACT:
ORGANIZER:Bette Hanson & Wendy Wolf
ATTACH;FMTTYPE="image/jpeg":http://storage.ning.com/topology/rest/1.0/
 file/get/3054950457?profile=original
ATTENDEE;ROLE=REQ-PARTICIPANT;PARTSTAT=ACCEPTED;RSVP=TRUE;CN="The Phil
 ly Dog":http://phillytodo.com/profile/RebeccaBraglio
ATTENDEE;ROLE=REQ-PARTICIPANT;PARTSTAT=ACCEPTED;RSVP=TRUE;CN="Wendy Wo
 lf":http://phillytodo.com/profile/WendyWolf
END:VEVENT
END:VCALENDAR
