BEGIN:VCALENDAR
PRODID:NingEventWidget-v1
VERSION:2.0
METHOD:PUBLISH
BEGIN:VEVENT
UID:4320450:Event:41639
DTSTAMP:20260425T144249Z
SUMMARY:Native Plant Sale
DESCRIPTION:Stock up for fall! Replenish your garden with native trees
  and shrubs and fall-blooming wildflowers—all perfect for migrating 
 birds and insects. Members receive 10% off plants.\nAlso stop by our 
 fall birdseed sale for 10% off birdseed (20% off for members).\nSee t
 he 2015 native plant catalog here.\n\nFor more information visit http
 ://phillytodo.com/events/native-plant-sale
DTSTART:20150926T130000Z
DTEND:20150926T180000Z
CATEGORIES:plant, sale
LOCATION:Schuylkill Center for Environmental Education
WEBSITE:http://www.schuylkillcenter.org/
URL:http://www.schuylkillcenter.org/
CONTACT:215-482-7300, x110
ORGANIZER;CN="The Schuylkill Center":http://phillytodo.com/profile/Ann
 aLehrMueser
ATTACH;FMTTYPE="image/jpeg":http://storage.ning.com/topology/rest/1.0/
 file/get/3054988683?profile=original
ATTENDEE;ROLE=REQ-PARTICIPANT;PARTSTAT=ACCEPTED;RSVP=TRUE;CN="The Schu
 ylkill Center":http://phillytodo.com/profile/AnnaLehrMueser
END:VEVENT
END:VCALENDAR
