BEGIN:VCALENDAR
PRODID:NingEventWidget-v1
VERSION:2.0
METHOD:PUBLISH
BEGIN:VEVENT
UID:4320450:Event:4064
DTSTAMP:20260425T143518Z
SUMMARY:National Liberty Museum Sweet Sunday
DESCRIPTION:Enjoy free,  delicious cupcakes  and cozy tea while brow
 sing National Liberty Museum's new collection of exclusive jewelry and
  Valentine's Day gifts!\n \n\nFor more information visit http://phill
 ytodo.com/events/national-liberty-museum-sweet
DTSTART:20110213T180000Z
DTEND:20110213T210000Z
CATEGORIES:sweet, sunday, valentine, day, event
LOCATION:National Liberty Museum
WEBSITE:http://www.libertymuseum.org
URL:http://www.libertymuseum.org
CONTACT:215-925-2800
ORGANIZER:Jan H. Griesemer
ATTACH;FMTTYPE="image/jpeg":
ATTENDEE;ROLE=REQ-PARTICIPANT;PARTSTAT=ACCEPTED;RSVP=TRUE;CN="Jan H. g
 riesemer":http://phillytodo.com/profile/JanHgriesemer
END:VEVENT
END:VCALENDAR
