BEGIN:VCALENDAR
PRODID:NingEventWidget-v1
VERSION:2.0
METHOD:PUBLISH
BEGIN:VEVENT
UID:4320450:Event:33260
DTSTAMP:20260425T150739Z
SUMMARY:National Concert Act featuring \"Fuel\" and \"Alien Ant Farm\"
DESCRIPTION:Join us for Philly's BIGGEST party as National Concert Act
 s \"Fuel\" and \"Alien Ant Farm\" and perform live on the outdoor conc
 ert stage at XL!Contact parties@xfinitylive.com to add your name to th
 e guest list and to book your VIP Party during the show.Free parking i
 s available all day and night.\n\nFor more information visit http://ph
 illytodo.com/events/national-concert-act-featuring-fuel-and-alien-ant-
 farm
DTSTART:20130728T000000Z
DTEND:20130728T040000Z
CATEGORIES:live, music
LOCATION:XFINITY Live! Philadelphia
WEBSITE:http://xfinitylive.com
URL:http://xfinitylive.com
CONTACT:215-609-1678
ORGANIZER;CN="Stepfanie McCaffrey":http://phillytodo.com/profile/Stepf
 anieMcCaffrey
ATTACH;FMTTYPE="image/jpeg":
ATTENDEE;ROLE=REQ-PARTICIPANT;PARTSTAT=ACCEPTED;RSVP=TRUE;CN="Stepfani
 e McCaffrey":http://phillytodo.com/profile/StepfanieMcCaffrey
END:VEVENT
END:VCALENDAR
