BEGIN:VCALENDAR
PRODID:NingEventWidget-v1
VERSION:2.0
METHOD:PUBLISH
BEGIN:VEVENT
UID:4320450:Event:46603
DTSTAMP:20260425T175937Z
SUMMARY:Natasha Leggero from Comedy Central at Valley Forge Music Fair
DESCRIPTION:Actress, writer, and funny woman Natasha Leggero brings he
 r unique brand of comedy to Valley Forge Music Fair (1160 First Avenue
 ) on Saturday, July 2nd in The Venue. Laugh along with the stand out c
 omedienne featured on Chelsea Lately, Comedy Central’s Roast of Just
 in Bieber and Andrew Dice Clay’s brand new comedy on Showtime, Dice.
   Doors will open at 8:00pm, with the show starting at 9:00pm. Ticket
 s are on sale now at Ticketmaster for $45.00 each for General Admissio
 n and $80.00 each for VIP.\n\nFor more information visit http://philly
 todo.com/events/natasha-leggero-at-valley-forge-music-fair
DTSTART:20160703T010000Z
DTEND:20160703T030000Z
CATEGORIES:comedy, show
LOCATION:The Venue at Valley Forge Casino Resort
WEBSITE:http://www.ticketmaster.com/event/02005096F24CBC19?camefrom=cf
 c_VFC_WEB
URL:http://www.ticketmaster.com/event/02005096F24CBC19?camefrom=cfc_VF
 C_WEB
CONTACT:215-840-9216
ORGANIZER;CN="Aversa PR & Events":http://phillytodo.com/profile/KoryAv
 ersa277
ATTACH;FMTTYPE="image/jpeg":http://storage.ning.com/topology/rest/1.0/
 file/get/3054995333?profile=original
ATTENDEE;ROLE=REQ-PARTICIPANT;PARTSTAT=ACCEPTED;RSVP=TRUE;CN="Aversa P
 R & Events":http://phillytodo.com/profile/KoryAversa277
END:VEVENT
END:VCALENDAR
