BEGIN:VCALENDAR
PRODID:NingEventWidget-v1
VERSION:2.0
METHOD:PUBLISH
BEGIN:VEVENT
UID:4320450:Event:1976
DTSTAMP:20260425T161117Z
SUMMARY:Nashville Nights GayBINGO!
DESCRIPTION:Nashville Nights GayBINGO! – “Man! I feel like a woman
 !” (Shania Twain)\nHosted by: Carlota Ttendant and the BVDs\n\nFor m
 ore information visit http://phillytodo.com/events/nashville-nights-ga
 ybingo
DTSTART:20110416T220000Z
DTEND:20110417T030000Z
CATEGORIES:fundraiser, bingo
LOCATION:The Gershman Y
WEBSITE:http://www.aidsfundphilly.org
URL:http://www.aidsfundphilly.org
CONTACT:215-731-9255
ORGANIZER;CN="Cari Feiler Bender":http://phillytodo.com/profile/CariFe
 ilerBender
ATTACH;FMTTYPE="image/jpeg":
ATTENDEE;ROLE=REQ-PARTICIPANT;PARTSTAT=ACCEPTED;RSVP=TRUE;CN="Cari Fei
 ler Bender":http://phillytodo.com/profile/CariFeilerBender
END:VEVENT
END:VCALENDAR
