BEGIN:VCALENDAR
PRODID:NingEventWidget-v1
VERSION:2.0
METHOD:PUBLISH
BEGIN:VEVENT
UID:4320450:Event:52619
DTSTAMP:20260425T124848Z
SUMMARY:NamaSLAY
DESCRIPTION:Celebrate your inner diva every Saturday from September 16
 th-October 7th with a free, vibrant yoga practice to the beat of all 
 your favorite hip-hop and r&b hits with instructor Adriana Adele’s s
 ignature NamaSLAY class!\n10:30am - Center CourtBring your own mat. 
 Please arrive at least 10 minutes prior to the class start time to che
 ck-in.\nSeptember 16, 2017September 23, 2017September 30, 2017October 
 7, 2017\n@TheConcordMallwww.concordmall.com\nAll rights reserved. Gues
 ts must register to reserve their spot in the class. \n\nFor more inf
 ormation visit http://phillytodo.com/events/namaslay
DTSTART:20170923T143000Z
DTEND:20170923T154500Z
CATEGORIES:free
LOCATION:The Concord Mall
WEBSITE:
URL:
CONTACT:2156271060
ORGANIZER;CN=CashmanAssoc:http://phillytodo.com/profile/CashmanAssoc
ATTACH;FMTTYPE="image/jpeg":http://storage.ning.com/topology/rest/1.0/
 file/get/3055009965?profile=original
ATTENDEE;ROLE=REQ-PARTICIPANT;PARTSTAT=ACCEPTED;RSVP=TRUE;CN=CashmanAs
 soc:http://phillytodo.com/profile/CashmanAssoc
END:VEVENT
END:VCALENDAR
