BEGIN:VCALENDAR
PRODID:NingEventWidget-v1
VERSION:2.0
METHOD:PUBLISH
BEGIN:VEVENT
UID:4320450:Event:36432
DTSTAMP:20260425T145048Z
SUMMARY:Namas Day - A Philly Area Yoga Festival
DESCRIPTION:Namas Day Yoga & Wellness Festival is a full day of work
 shops, master classes, music and information exchange, organized by Ph
 illy Area Yoga. The event pools diverse talent from the city and subur
 bs, each selected to play unique roles in creating an inspired atmosph
 ere of learning and community. This 3rd festival is expected to draw h
 undreds from the area’s rapidly growing health-conscious, eco-friend
 ly and socially-responsible communities.\nPresenters include: Joan Whi
 te, a yoga legend known for her B.K.S, Iyengar background; Simon Park,
  dubbed “one of the most influential and gifted next generation of Y
 oga teachers” by Yoga Journal; Jennifer Schelter, who US Airways Mag
 azine called “one of the most inspiring Philadelphians;” and Maura
  Manzo, Philly’s Off The Mat community leader known for empowering s
 acred activism. Check out all the presenters.\n\n\nFor more informatio
 n visit http://phillytodo.com/events/namas-day-a-philly-area-yoga-fest
 ival-1
DTSTART:20140510T120000Z
DTEND:20140510T220000Z
CATEGORIES:yoga, festival
LOCATION:WHYY Building
WEBSITE:http://www.namasdayphilly.com
URL:http://www.namasdayphilly.com
CONTACT:484-947-6072
ORGANIZER:Philly Area Yoga
ATTACH;FMTTYPE="image/jpeg":http://storage.ning.com/topology/rest/1.0/
 file/get/3054974139?profile=original
ATTENDEE;ROLE=REQ-PARTICIPANT;PARTSTAT=ACCEPTED;RSVP=TRUE;CN="Allegra 
 Tiver":http://phillytodo.com/profile/AllegraTiver
END:VEVENT
END:VCALENDAR
