BEGIN:VCALENDAR
PRODID:NingEventWidget-v1
VERSION:2.0
METHOD:PUBLISH
BEGIN:VEVENT
UID:4320450:Event:39644
DTSTAMP:20260425T114225Z
SUMMARY:My Smutty Valentine
DESCRIPTION:Celebrate your one true love: beer. Head over to BRU Craft
  & Wurst (1318 Chestnut Street) on Saturday, February 14, 2015 for My 
 Smutty Valentine Party starting at 2:00pm. Fall head over heels for 20
  Smuttynose drafts for only $5.00 each, including vintage and rare sel
 ections. Plus enjoy beer-infused chocolate desserts from Chef Andrew G
 aspar. Must be 21 or older to drink. All selections are limited in sup
 ply and available until the kegs kick. Food and drink are pay-as-you-g
 o. For more information, visit www.bruphilly.com, follow @bruphilly or
  call (215) 800-1079.\n\n\nFor more information visit http://phillytod
 o.com/events/my-smutty-valentine
DTSTART:20150214T190000Z
DTEND:20150214T230000Z
CATEGORIES:"valentine's", day, party
LOCATION:BRU Craft and Wurst
WEBSITE:http://www.bruphilly.com
URL:http://www.bruphilly.com
CONTACT:(215) 800-1079
ORGANIZER;CN="Aversa PR & Events":http://phillytodo.com/profile/KoryAv
 ersa277
ATTACH;FMTTYPE="image/jpeg":http://api.ning.com:80/files/nNOqzuU--h-qM
 Lt5lM5ea4fcfkQFMpZoCidAWZfMW7OInslSjRqSKvOoAkQ9xw6cavxodUpjPmpD1QaTE-O
 bjuh059rLeSFE/ValentinesMySmuttyValentinePartyatBRUbyLaurenMameThomas.
 jpg
ATTENDEE;ROLE=REQ-PARTICIPANT;PARTSTAT=ACCEPTED;RSVP=TRUE;CN="Aversa P
 R & Events":http://phillytodo.com/profile/KoryAversa277
END:VEVENT
END:VCALENDAR
