BEGIN:VCALENDAR
PRODID:NingEventWidget-v1
VERSION:2.0
METHOD:PUBLISH
BEGIN:VEVENT
UID:4320450:Event:52728
DTSTAMP:20260425T115225Z
SUMMARY:Music Night at Greensgrow West
DESCRIPTION:Community event, with live music from Think Like Midnight 
 and Qiana Ganges and Brian Jordan. BBQ, beverages available, or bring 
 your own picnic!  Suggested donation of $5-10 at the door. Kids under
  12 will be free.\nThink Like Midnight is an instrumental rock band wi
 th deep roots in West Philly.\nQiana is a particularly tuneful farmer 
 who has been a part of the Greensgrow family for a number of years. Sh
 e partners with Brian, a singer-songrwriter-guitarist who is one half 
 of City Love. Brian Jordan has been singing for most of his life, fell
  in love with his guitar in 2008, and has been playing at weddings and
  other special events for over five years.  Brian was recently chosen
  as the winner of the Philadelphia city council’s PHL Live Jazz Comp
 etition.\n\n\nFor more information visit http://phillytodo.com/events/
 music-night-at-greensgrow-west
DTSTART:20171021T220000Z
DTEND:20171022T020000Z
CATEGORIES:community, event
LOCATION:Greensgrow West
WEBSITE:https://www.facebook.com/events/123890111642877/?acontext=%7B%
 22source%22%3A4%2C%22action_history%22%3A%22[%7B%5C%22surface%5C%22%3A
 %5C%22group%5C%22%2C%5C%22mechanism%5C%22%3A%5C%22surface%5C%22%2C%5C%
 22extra_data%5C%22%3A[]%7D]%22%2C%22has_source%22%3Atrue%7D&amp;source
 =4&amp;action_history=[%7B%22surface%22%3A%22group%22%2C%22mechanism%2
 2%3A%22surface%22%2C%22extra_data%22%3A[]%7D]&amp;has_source=1&amp;hc_
 ref=ARTzLfuNyl1NeDYFpL5DlZ0zuy1GrMUjVC-yjeey-x8qGRW2j-LuH9waSn_0zVZG3f
 0&amp;fref=gs&amp;dti=1491059327776836&amp;hc_
URL:https://www.facebook.com/events/123890111642877/?acontext=%7B%22so
 urce%22%3A4%2C%22action_history%22%3A%22[%7B%5C%22surface%5C%22%3A%5C%
 22group%5C%22%2C%5C%22mechanism%5C%22%3A%5C%22surface%5C%22%2C%5C%22ex
 tra_data%5C%22%3A[]%7D]%22%2C%22has_source%22%3Atrue%7D&amp;source=4&a
 mp;action_history=[%7B%22surface%22%3A%22group%22%2C%22mechanism%22%3A
 %22surface%22%2C%22extra_data%22%3A[]%7D]&amp;has_source=1&amp;hc_ref=
 ARTzLfuNyl1NeDYFpL5DlZ0zuy1GrMUjVC-yjeey-x8qGRW2j-LuH9waSn_0zVZG3f0&am
 p;fref=gs&amp;dti=1491059327776836&amp;hc_
CONTACT:
ORGANIZER;CN="Greensgrow Farms":http://phillytodo.com/profile/Greensgr
 owFarms
ATTACH;FMTTYPE="image/jpeg":http://storage.ning.com/topology/rest/1.0/
 file/get/3055009723?profile=original
ATTENDEE;ROLE=REQ-PARTICIPANT;PARTSTAT=ACCEPTED;RSVP=TRUE;CN="Greensgr
 ow Farms":http://phillytodo.com/profile/GreensgrowFarms
END:VEVENT
END:VCALENDAR
