BEGIN:VCALENDAR
PRODID:NingEventWidget-v1
VERSION:2.0
METHOD:PUBLISH
BEGIN:VEVENT
UID:4320450:Event:44915
DTSTAMP:20260425T124919Z
SUMMARY:Mushroom Crochet Workshop
DESCRIPTION:Learn how to make your own fiber fungus creations in this 
 hands-on workshop.  The Foragers gallery artist Melissa Maddonni Haim
 s will guide you through an exploration of crochet in the round and hy
 perbolic crochet, resulting in your own mimicked yarn mushroom that yo
 u can take home.  If you have a favorite mushroom picture that you’
 d like to try to recreate, feel free to bring it along for inspiration
 .  Some prior crochet experience is helpful, but not required – all
  levels are welcome.  All materials and supplies will be provided, bu
 t attendees may also bring their own hooks and yarn if desired. Pre-re
 gistration requested.\nMembers price: $15\n\nFor more information visi
 t http://phillytodo.com/events/mushroom-crochet-workshop
DTSTART:20160220T190000Z
DTEND:20160220T210000Z
CATEGORIES:workshop
LOCATION:The Schuylkill Center for Environmental Education
WEBSITE:http://www.schuylkillcenter.org/blog/event/mushroom-crochet-wo
 rkshop/
URL:http://www.schuylkillcenter.org/blog/event/mushroom-crochet-worksh
 op/
CONTACT:215-482-7300
ORGANIZER:The Schuylkill Center for Environmental Education
ATTACH;FMTTYPE="image/jpeg":http://storage.ning.com/topology/rest/1.0/
 file/get/3054994810?profile=original
ATTENDEE;ROLE=REQ-PARTICIPANT;PARTSTAT=ACCEPTED;RSVP=TRUE;CN="The Schu
 ylkill Center":http://phillytodo.com/profile/AnnaLehrMueser
END:VEVENT
END:VCALENDAR
