BEGIN:VCALENDAR
PRODID:NingEventWidget-v1
VERSION:2.0
METHOD:PUBLISH
BEGIN:VEVENT
UID:4320450:Event:171624
DTSTAMP:20260425T100701Z
SUMMARY:Museum for Art in Wood presents “The Mashrabiya Project”
DESCRIPTION:The Museum for Art in Wood unveils The Mashrabiya Project,
  an international exhibition, interactive programming, shared making e
 xperience, and publication showcasing and exploring the significance o
 f the wood-turned mashrabiya. Curated by The Museum for Art in Wood’
 s Executive Director and Chief Curator Jennifer-Navva Milliken, this w
 ill be the first effort in the U.S. to examine this architectural obje
 ct and its prominence in Islamic and Egyptian craft while highlighting
  its greater cultural significance. The Museum for Art in Wood will pr
 esent a multi-disciplinary exhibition featuring commissioned, never-be
 fore-seen works from six international artists and host hybrid program
 ming to encourage further public engagement and discussion.\n\nFor mor
 e information visit http://phillytodo.com/events/museum-for-art-in-woo
 d-presents-the-mashrabiya-project
DTSTART:20230303T170000Z
DTEND:20230723T210000Z
CATEGORIES:gallery
LOCATION:141 N. 3rd Street, Philadelphia, PA 19106
WEBSITE:https://museumforartinwood.org/exhibition/the-mashrabiya-proje
 ct/
URL:https://museumforartinwood.org/exhibition/the-mashrabiya-project/
CONTACT:215-923-8000
ORGANIZER;CN="En Route Marketing":http://phillytodo.com/profile/EnRout
 eMarketing
ATTACH;FMTTYPE="image/jpeg":https://storage.ning.com/topology/rest/1.0
 /file/get/10960653071?profile=original
ATTENDEE;ROLE=REQ-PARTICIPANT;PARTSTAT=ACCEPTED;RSVP=TRUE;CN="En Route
  Marketing":http://phillytodo.com/profile/EnRouteMarketing
END:VEVENT
END:VCALENDAR
