BEGIN:VCALENDAR
PRODID:NingEventWidget-v1
VERSION:2.0
METHOD:PUBLISH
BEGIN:VEVENT
UID:4320450:Event:31482
DTSTAMP:20260425T125049Z
SUMMARY:Muse \"An Art Inspired Nightlife Experience\"
DESCRIPTION:Do you guys enjoy First Fridays as much as I do?\n \nDon'
 t stop the fun at the last gallery closing, the city is buzzling with 
 great after parties, including 'Muse' at Fire & Ice. DJ Aiden will be 
 rocking the house as admirers can take in a glimpse of live atrwork by
  Steve Shorts or live body painting by Dylee of Dylicious Body Paintin
 g.\n \nThe gallery will be filled by artwork from local artists and a
 ll the pieces will be for sale. Don't miss the chance to win a piece o
 f art, there be a giveaway at 1am. \n \nFor VIP Table Reservations 
 e-mail: vip@fireandicephilly.com RSVP at www.fireandicephilly.com\n\nF
 or more information visit http://phillytodo.com/events/muse-an-art-ins
 pired-nightlife-experience
DTSTART:20130406T020000Z
DTEND:20130406T060000Z
CATEGORIES:first, friday
LOCATION:Fire & Ice
WEBSITE:http://www.fireandicephilly.com/#!events/c66t
URL:http://www.fireandicephilly.com/#!events/c66t
CONTACT:
ORGANIZER:
ATTACH;FMTTYPE="image/jpeg":http://storage.ning.com/topology/rest/1.0/
 file/get/3054965253?profile=original
ATTENDEE;ROLE=REQ-PARTICIPANT;PARTSTAT=ACCEPTED;RSVP=TRUE;CN="Cindy Fi
 gueroa @ceefig":http://phillytodo.com/profile/CindyFigueroa
END:VEVENT
END:VCALENDAR
