BEGIN:VCALENDAR
PRODID:NingEventWidget-v1
VERSION:2.0
METHOD:PUBLISH
BEGIN:VEVENT
UID:4320450:Event:2559
DTSTAMP:20260425T160753Z
SUMMARY:Mural Rededication: Frank Rizzo
DESCRIPTION:Head to the Italian Market for teh rededication of this ic
 onic mural that recently underwent a complete renovation by muralist D
 iane Keller. Join City Councilman Frank Rizzo, Jr. for this special ev
 ent on the late Mayor's birthday. Sponsored by the City of Philadelphi
 a, the Pennsylvania Department of Community and Economic Development (
 DCED) and individual donors.\n\nFor more information visit http://phil
 lytodo.com/events/mural-rededication-frank-rizzo
DTSTART:20101023T150000Z
DTEND:20101023T160000Z
CATEGORIES:mural, rededication
LOCATION:9th & Montrose Streets
WEBSITE:
URL:
CONTACT:
ORGANIZER;CN="Jenn McCreary":http://phillytodo.com/profile/JennMcCrear
 y
ATTACH;FMTTYPE="image/jpeg":
ATTENDEE;ROLE=REQ-PARTICIPANT;PARTSTAT=ACCEPTED;RSVP=TRUE;CN="Jenn McC
 reary":http://phillytodo.com/profile/JennMcCreary
END:VEVENT
END:VCALENDAR
