BEGIN:VCALENDAR
PRODID:NingEventWidget-v1
VERSION:2.0
METHOD:PUBLISH
BEGIN:VEVENT
UID:4320450:Event:40835
DTSTAMP:20260425T141236Z
SUMMARY:Mural Arts Scavenger Hunt
DESCRIPTION:Please join the City of Philadelphia Mural Arts Program on
  Saturday, April 11th for an exciting FREE public event to kick-off t
 he 2015 Mural Arts Program Tour Season. With a beautiful new tour offi
 ce located at the Pennsylvania Academy of the Fine Arts (PAFA) Hamilto
 n Building (128 N. Broad Street) combined with the launch of  the fir
 st-ever Mural Arts Scavenger Hunt, this will be a fun, interactive eve
 nt perfect for the entire family. The festivities begin at 11:00 AM 
 with the Hunt itself running until 1:00 PM followed by a reception u
 ntil2:00 PM, with food provided by Tableau, the new Stephen Starr Caf
  located at PAFA.\n \nThis newly created Scavenger Hunt features a d
 ownloadable app that has participants or “teams” compete in intera
 ctive challenges, including photos, GPS check-ins and question & answe
 rs, encompassing a variety of murals along both the Center City Mural 
 Mile North and South walking tour routes. Throughout the season this S
 cavenger Hunt will be available for private groups of virtually any si
 ze as a great corporate team-building exercise or a unique & entertain
 ing social activity, call 215-925-3633 ext. 14 for pricing and furth
 er details or to book your Scavenger Hunt.\n \nThe event is free of c
 harge, however registration is required. To register please email tou
 rs@muralarts.org with your name and number of people on your “team.
 ”  Each team is required to have at least one mobile device or tabl
 et to use during the event. For questions or further information, plea
 se call 215-925-3633 or visitmuralarts.org/tour\n\nFor more informat
 ion visit http://phillytodo.com/events/mural-arts-scavenger-hunt
DTSTART:20150411T150000Z
DTEND:20150411T170000Z
CATEGORIES:scavenger, hunt
LOCATION:Pennsylvania Academy of the Fine Arts
WEBSITE:
URL:
CONTACT:
ORGANIZER:Mural Arts Program
ATTACH;FMTTYPE="image/jpeg":http://storage.ning.com/topology/rest/1.0/
 file/get/3054988491?profile=original
ATTENDEE;ROLE=REQ-PARTICIPANT;PARTSTAT=ACCEPTED;RSVP=TRUE;CN="Cari Fei
 ler Bender":http://phillytodo.com/profile/CariFeilerBender
END:VEVENT
END:VCALENDAR
