BEGIN:VCALENDAR
PRODID:NingEventWidget-v1
VERSION:2.0
METHOD:PUBLISH
BEGIN:VEVENT
UID:4320450:Event:54841
DTSTAMP:20260425T142742Z
SUMMARY:Mural Arts Philadelphia's Wall Ball
DESCRIPTION:Mural Arts Philadelphia’s Wall Ball will take place on T
 hursday, June 7, 2018. Wall Ball will take place at The Fillmore Phila
 delphia located at 29 East Allen Street, Philadelphia. Wall Ball start
 s at 6 pm and the Off the Wall Ball After-Party, presented by the Mura
 l Arts Advisory Council, is 9:30 pm – 12 midnight. Web link for tick
 et and sponsorship info is muralarts.org/wallball2018 or 215-685-0759.
  Find Mural Arts on twitter @muralarts.\n\nFor more information visit 
 http://phillytodo.com/events/mural-arts-philadelphia-s-wall-ball
DTSTART:20180607T220000Z
DTEND:20180608T040000Z
CATEGORIES:fundraiser
LOCATION:The Fillmore
WEBSITE:http://www.muralarts.org
URL:http://www.muralarts.org
CONTACT:215-685-0759
ORGANIZER;CN="Cari Feiler Bender":http://phillytodo.com/profile/CariFe
 ilerBender
ATTACH;FMTTYPE="image/jpeg":
ATTENDEE;ROLE=REQ-PARTICIPANT;PARTSTAT=ACCEPTED;RSVP=TRUE;CN="Cari Fei
 ler Bender":http://phillytodo.com/profile/CariFeilerBender
END:VEVENT
END:VCALENDAR
