BEGIN:VCALENDAR
PRODID:NingEventWidget-v1
VERSION:2.0
METHOD:PUBLISH
BEGIN:VEVENT
UID:4320450:Event:60307
DTSTAMP:20260425T142310Z
SUMMARY:Mural Arts Philadelphia’s African American Iconic Images Col
 lection Mural Trolley Tour
DESCRIPTION:Sundays, February 9 and 23 only, 1:30pm–3:30pm \n$32 fo
 r adults and $28 for students and kids under 12\nDeparts from the Penn
 sylvania Academy of the Fine Arts, 128 N. Broad Street (Samuel M. V. H
 amilton Building)\n \nExperience firsthand how art ignites change: ex
 plore the world’s largest outdoor art gallery and get to know Philad
 elphia’s stunning mural collection on an exciting guided tour. Weave
  through diverse neighborhoods by trolley and get inspired by the incr
 edible public art that makes Philadelphia the mural capital of the wor
 ld. In honor of Black History Month, Mural Arts is offering a special 
 mural trolley tour that explores civil rights, freedom, and equality. 
 This rich collection of images highlights iconic African American figu
 res within Philadelphia’s visual autobiography. An experienced tour 
 guide will discuss each mural, the artists, and the mural-making proce
 ss.\n\nFor more information visit http://phillytodo.com/events/mural-a
 rts-philadelphia-s-african-american-iconic-images
DTSTART:20200209T183000Z
DTEND:20200209T203000Z
CATEGORIES:tour
LOCATION:Pennsylvania Academy of the Fine Arts
WEBSITE:http://muralarts.org/tours
URL:http://muralarts.org/tours
CONTACT:215-925-3633
ORGANIZER:Mural Arts
ATTACH;FMTTYPE="image/jpeg":
ATTENDEE;ROLE=REQ-PARTICIPANT;PARTSTAT=ACCEPTED;RSVP=TRUE;CN="Cari Fei
 ler Bender":http://phillytodo.com/profile/CariFeilerBender
END:VEVENT
END:VCALENDAR
