BEGIN:VCALENDAR
PRODID:NingEventWidget-v1
VERSION:2.0
METHOD:PUBLISH
BEGIN:VEVENT
UID:4320450:Event:50206
DTSTAMP:20260425T123557Z
SUMMARY:Mural Arts Philadelphia Monument Lab Summer Sampler
DESCRIPTION:On Saturday, July 1, Mural Arts Philadelphia gives the fi
 rst glimpse of Monument Lab, featuring a sneak preview of Philadelphi
 a artist Kara Crombie’s monument, Sample Philly: an interactive scul
 pture with a sound bank of musical loops drawn from the city's rich mu
 sical history. Enjoy live music and refreshments, and chat one-on-one 
 with the artist and curators in Franklin Square. Nine weeks, 10 sites,
  21 artists, and one central question: What is your vision for a monum
 ent that represents Philadelphia? Monument Lab is a public art and h
 istory project produced by Mural Arts Philadelphia and curators Paul F
 arber and Ken Lum that invites people to join a citywide conversation 
 about history, memory, and our collective future. Visit monumentlab.m
 uralarts.org for more information about this expansive, interactive p
 roject, coming to Philadelphia’s Center City squares and neighborhoo
 d parks in fall 2017. Admission is free. \n\nFor more information vis
 it http://phillytodo.com/events/mural-arts-philadelphia-monument-lab-s
 ummer-sampler
DTSTART:20170701T170000Z
DTEND:20170701T200000Z
CATEGORIES:art, exhibit
LOCATION:Franklin Square
WEBSITE:
URL:
CONTACT:
ORGANIZER:Mural Arts Philadelphia
ATTACH;FMTTYPE="image/jpeg":
ATTENDEE;ROLE=REQ-PARTICIPANT;PARTSTAT=ACCEPTED;RSVP=TRUE;CN="Cari Fei
 ler Bender":http://phillytodo.com/profile/CariFeilerBender
END:VEVENT
END:VCALENDAR
