BEGIN:VCALENDAR
PRODID:NingEventWidget-v1
VERSION:2.0
METHOD:PUBLISH
BEGIN:VEVENT
UID:4320450:Event:60408
DTSTAMP:20260425T130603Z
SUMMARY:Mural Arts Love Letter Train Tour
DESCRIPTION:Saturday, February 15 and Sunday, February 16, at 10:30 am
  and 1:00pm\n$23 per person (includes SEPTA fare). Advanced reservatio
 ns are strongly suggested, as tours sell out.\nDeparts from the Pennsy
 lvania Academy of the Fine Arts, 128 N. Broad St\nDuration: 2 hours\nÂ
  \nMural Arts Philadelphia and Philadelphia native, New York-based art
 ist Stephen Powers (aka ESPO),Â collaborated to create Love Letter,Â a
  public art project consisting of a series of 50 rooftop murals from 4
 5th to 63rd Streets along the Market Street corridor in West Philadelp
 hia. Professionally-trained guides provide colorful commentary and lea
 d participants on and off the train to spot murals from train platform
 s.Â \n\nFor more information visit http://phillytodo.com/events/mural-
 arts-love-letter-train-tour
DTSTART:20200215T153000Z
DTEND:20200215T173000Z
CATEGORIES:tour
LOCATION:Pennsylvania Academy of the Fine Arts
WEBSITE:http://muralarts.org/tours
URL:http://muralarts.org/tours
CONTACT:215-925-3633
ORGANIZER:Mural Arts
ATTACH;FMTTYPE="image/jpeg":https://storage.ning.com/topology/rest/1.0
 /file/get/3830716015?profile=original
ATTENDEE;ROLE=REQ-PARTICIPANT;PARTSTAT=ACCEPTED;RSVP=TRUE;CN="Cari Fei
 ler Bender":http://phillytodo.com/profile/CariFeilerBender
END:VEVENT
END:VCALENDAR
