BEGIN:VCALENDAR
PRODID:NingEventWidget-v1
VERSION:2.0
METHOD:PUBLISH
BEGIN:VEVENT
UID:4320450:Event:2536
DTSTAMP:20260425T142632Z
SUMMARY:Mural Arts Fourth Wall Salon Boutique
DESCRIPTION:This Mural Arts Month exhibition will feature works by Bru
 ce George, Tatyana Fazlalizadeh, Yadira Leticia Torres, Aliene DeSouza
  Howell, Alicia Mendoza, Carlo Campbell, Alexandria \"Brinae Ali\" Bra
 dley, Nina \"Lyrispect\" Ball, Karl Slocum, Cachet Ivey, Jimmy Crack C
 orn Experment, and Jessi Teich.\n\nVisit www.fourthwallarts.org for mo
 re information and to purchase tickets.\n\nFor more information visit 
 http://phillytodo.com/events/mural-arts-fourth-wall-salon
DTSTART:20101009T230000Z
DTEND:20101010T010000Z
CATEGORIES:exhibit, "opening/salon"
LOCATION:Commonwealth Gallery, Lincoln Financial Mural Arts Center at 
 the Thomas Eakins House
WEBSITE:http://fourthwallarts.org/oct-boutique.htm
URL:http://fourthwallarts.org/oct-boutique.htm
CONTACT:
ORGANIZER;CN="Jenn McCreary":http://phillytodo.com/profile/JennMcCrear
 y
ATTACH;FMTTYPE="image/jpeg":http://storage.ning.com/topology/rest/1.0/
 file/get/3054950677?profile=original
ATTENDEE;ROLE=REQ-PARTICIPANT;PARTSTAT=ACCEPTED;RSVP=TRUE;CN="Jenn McC
 reary":http://phillytodo.com/profile/JennMcCreary
END:VEVENT
END:VCALENDAR
