BEGIN:VCALENDAR
PRODID:NingEventWidget-v1
VERSION:2.0
METHOD:PUBLISH
BEGIN:VEVENT
UID:4320450:Event:169912
DTSTAMP:20260425T124847Z
SUMMARY:Mummers Parade
DESCRIPTION:The Mummers Parade is back! Join the Mummers as they strut
  down Broad Street to usher in 2022 in bright and festive costumes, de
 lighting fans of all ages. The country's oldest continuous folk parade
 , since 1901, the Mummers Parade makes Philadelphia the best destinati
 on for ringing in the New Year! The Mummers will march from City Hall 
 down Broad Street to Washington Avenue, beginning at 9 a.m. The parade
  is free to attend, but you can enhance your experience by purchasing 
 tickets to the bleacher seating at the City Hall Stand Performance Zon
 e. Tickets are also available for two performances by the Fancy Brigad
 es, held at the Philadelphia Convention Center. All tickets can be pur
 chased through the Independence Visitor Center Corporation.\n\nFor mor
 e information visit http://phillytodo.com/events/mummers-parade
DTSTART:20220101T140000Z
DTEND:20220101T220000Z
CATEGORIES:parade
LOCATION:City Hall
WEBSITE:https://www.phlvisitorcenter.com/Mummers
URL:https://www.phlvisitorcenter.com/Mummers
CONTACT:215-867-8060
ORGANIZER:En Route Marketing
ATTACH;FMTTYPE="image/jpeg":https://storage.ning.com/topology/rest/1.0
 /file/get/9837686888?profile=original
ATTENDEE;ROLE=REQ-PARTICIPANT;PARTSTAT=ACCEPTED;RSVP=TRUE;CN="Bryan Ch
 an":http://phillytodo.com/profile/BryanChan
END:VEVENT
END:VCALENDAR
