BEGIN:VCALENDAR
PRODID:NingEventWidget-v1
VERSION:2.0
METHOD:PUBLISH
BEGIN:VEVENT
UID:4320450:Event:35521
DTSTAMP:20260425T100007Z
SUMMARY:Mummers Mardi Gras
DESCRIPTION:Saturday, March 1st will begin a new Philadelphia traditio
 n. With 10,000 active Mummers, it's time we get Philadelphia on the ma
 p for Mardi Gras!\nEntertainment will include Mummers Fancy Brigades, 
 body painted dancers, magicians, stilt walkers, jugglers, street perfo
 rmers, live mural art by Alloyius McIlwaine, live t-shirt printing by 
 Awesome Dude Printing.\n\nFor more information visit http://phillytodo
 .com/events/mummers-mardi-gras
DTSTART:20140301T200000Z
DTEND:20140302T020000Z
CATEGORIES:mardi, gras
LOCATION:The Piazza at Schmidts
WEBSITE:http://www.mummersmardigras.com/
URL:http://www.mummersmardigras.com/
CONTACT:
ORGANIZER;CN="One Up Events":http://phillytodo.com/profile/OneUpEvents
ATTACH;FMTTYPE="image/jpeg":http://storage.ning.com/topology/rest/1.0/
 file/get/3054970831?profile=original
ATTENDEE;ROLE=REQ-PARTICIPANT;PARTSTAT=ACCEPTED;RSVP=TRUE;CN="One Up E
 vents":http://phillytodo.com/profile/OneUpEvents
END:VEVENT
END:VCALENDAR
