BEGIN:VCALENDAR
PRODID:NingEventWidget-v1
VERSION:2.0
METHOD:PUBLISH
BEGIN:VEVENT
UID:4320450:Event:54912
DTSTAMP:20260425T124902Z
SUMMARY:Mummers Mardi Gras
DESCRIPTION:Manayunk.com and ADVENT are excited to bring the Philade
 lphia Mummers to Main Street in Manayunk. Don't miss out on the bigges
 t family-friendly Mardi Gras celebration in the city! Attendees will b
 e treated to numerous performances from the most prominent string band
 s parading down Main Street. This winter spectacular event will allow 
 families to enjoy all the pageantry of the Mummers in the quaint neigh
 borhood setting of Manayunk.\nThe day-long celebration will not only p
 rovide excitement for Manayunk, but will contribute exposure and raise
  money for one of the greatest traditions in Philadelphia: The Mummers
 ! The date is set for Sunday, February 25th (Rain Date: Sunday, Marc
 h 4th). The parade route will start at Shurs Lane at 1PM and proceed d
 own the length of Main Street. After the parade, we encourage all atte
 ndees to visit participating restaurants, which will serve as String B
 and Clubhouses for the afternoon.\nThis a wonderful Sunday celebration
  for friends and families that wish to delight their children with the
  true spirit of the Mummers. Enjoying the dynamic sounds of the string
  bands will make for a perfect Sunday for both residents and visitors 
 to the Philadelphia area!\n\nFor more information visit http://phillyt
 odo.com/events/mummers-mardi-gras-2
DTSTART:20180225T180000Z
DTEND:20180226T000000Z
CATEGORIES:parade
LOCATION:Manayunk
WEBSITE:http://manayunk.com/news-and-events/events/mummers-mardi-gras.
 html
URL:http://manayunk.com/news-and-events/events/mummers-mardi-gras.html
CONTACT:
ORGANIZER;CN="Manayunk Development Corporation":http://phillytodo.com/
 profile/ManayunkDevelopmentCorporation
ATTACH;FMTTYPE="image/jpeg":http://storage.ning.com/topology/rest/1.0/
 file/get/3055011650?profile=original
ATTENDEE;ROLE=REQ-PARTICIPANT;PARTSTAT=ACCEPTED;RSVP=TRUE;CN="Manayunk
  Development Corporation":http://phillytodo.com/profile/ManayunkDevelo
 pmentCorporation
END:VEVENT
END:VCALENDAR
