BEGIN:VCALENDAR
PRODID:NingEventWidget-v1
VERSION:2.0
METHOD:PUBLISH
BEGIN:VEVENT
UID:4320450:Event:45207
DTSTAMP:20260425T125013Z
SUMMARY:Mummers Mardi Gras
DESCRIPTION:Manayunk.com and ADVENT are excited to bring the Philade
 lphia Mummers to Main Street in Manayunk. Don't miss out on the bigge
 st family-friendly Mardi Gras celebration in the city! Attendees will 
 be treated to numerous performances from the most prominent string ban
 ds parading down Main Street. This winter spectacular event will allow
  families to enjoy all the pageantry of the Mummers in the quaint neig
 hborhood setting of Manayunk.\nThe daylong celebration will not only p
 rovide excitement for Manayunk, but will contribute exposure and raise
  money for one of the greatest traditions in Philadelphia: The Mummers
 ! The date is set for Saturday, February 20th(Rain Date: Saturday, Fe
 bruary 27th). The parade route will start at Shurs Lane at 11AM and pr
 oceed down the length of Main Street. After the parade, we encourage a
 ll parade attendees to visit our participating restaurants, which will
  serve as String Band Clubhouses for the afternoon. For things to do i
 n Manayunk, look for interactive children's activities, giveaways, awa
 rds, photo opportunities, and discounted items at participating stores
  and restaurants.\nThere are a plethora of activities and surprises to
  make this a wonderful Saturday celebration for friends and families t
 hat wish to delight their children with the true spirit of the Mummers
 . Enjoying the dynamic sounds of the Mummers' string bands will make f
 or a perfect Saturday for both residents and visitors to the Philadelp
 hia area.\n\nFor more information visit http://phillytodo.com/events/m
 ummers-mardi-gras-1
DTSTART:20160220T050000Z
DTEND:20160221T045900Z
CATEGORIES:parade, family, music
LOCATION:Main Street
WEBSITE:http://manayunk.com/signature-events/mummers-mardi-gras/
URL:http://manayunk.com/signature-events/mummers-mardi-gras/
CONTACT:215-482-9565
ORGANIZER;CN="Manayunk Development Corporation":http://phillytodo.com/
 profile/ManayunkDevelopmentCorporation
ATTACH;FMTTYPE="image/jpeg":http://storage.ning.com/topology/rest/1.0/
 file/get/3054993758?profile=original
ATTENDEE;ROLE=REQ-PARTICIPANT;PARTSTAT=ACCEPTED;RSVP=TRUE;CN="Manayunk
  Development Corporation":http://phillytodo.com/profile/ManayunkDevelo
 pmentCorporation
END:VEVENT
END:VCALENDAR
