BEGIN:VCALENDAR
PRODID:NingEventWidget-v1
VERSION:2.0
METHOD:PUBLISH
BEGIN:VEVENT
UID:4320450:Event:32025
DTSTAMP:20260425T191707Z
SUMMARY:MULTICULTURAL FESTIVAL/CONCERT of COLORS
DESCRIPTION:Outdoor Multicultural Festival featuring performers from t
 he Caribbean and showcasing Caribbean arts, food and culture. Event is
  rescheduled from original date of June 8, 2013 due to weather. Everyo
 ne is invited to enjoy music and culture from the islands.  Live perf
 ormances from international artists; Soca, reggae, zompa, zouk, Africa
 n, gospel, hip hop & R&B; food, arts and crafts for children and free 
 giveaways! \n\nFor more information visit http://phillytodo.com/event
 s/multicultural-festival-concert-of-colors
DTSTART:20130630T040000Z
DTEND:20130701T035900Z
CATEGORIES:caribbean, festival
LOCATION:Fairmount Park (near the Mann Music Center)
WEBSITE:http://www.chcgphilly.com
URL:http://www.chcgphilly.com
CONTACT:484.843.0768
ORGANIZER:Caribbean Heritage Carnival Group
ATTACH;FMTTYPE="image/jpeg":http://storage.ning.com/topology/rest/1.0/
 file/get/3054965875?profile=original
ATTENDEE;ROLE=REQ-PARTICIPANT;PARTSTAT=ACCEPTED;RSVP=TRUE;CN="Noreen M
 allory":http://phillytodo.com/profile/NoreenMallory
END:VEVENT
END:VCALENDAR
