BEGIN:VCALENDAR
PRODID:NingEventWidget-v1
VERSION:2.0
METHOD:PUBLISH
BEGIN:VEVENT
UID:4320450:Event:46607
DTSTAMP:20260425T124844Z
SUMMARY:Muddled, A Stage Comedy
DESCRIPTION:New York Times best-selling humorist Josh Piven brings his
  unique brand of comedy to Philadelphia with the world premiere of Mud
 dled, A Stage Comedy, from June 16-26 at Drexel URBN Annex (3401 Filbe
 rt St). Penned by the author of The Worst-Case Scenario Survival Handb
 ook and directed by William Steinberger, Muddled gives theater audienc
 es a best-case scenario for what happens when a group of hot-headed he
 adbangers meet the home-grown hipsters of Brooklyn. In this craft brew
 ed comedy, Piven trades navigating alligator pits for navigating mosh 
 pits, and surviving frostbite for surviving the frosty bite of a quick
 -witted hipster. Tickets are on sale now through Brown Paper Tickets f
 or $15 to $30 each. For more information, visit @muddledcomedy on Twit
 ter and Muddled on Facebook.\n\nFor more information visit http://phil
 lytodo.com/events/muddled-a-stage-comedy
DTSTART:20160617T000000Z
DTEND:20160626T180000Z
CATEGORIES:comedy, play
LOCATION:Drexel URBN Annex
WEBSITE:http://www.brownpapertickets.com/event/2546549
URL:http://www.brownpapertickets.com/event/2546549
CONTACT:215-840-9216
ORGANIZER;CN="Aversa PR & Events":http://phillytodo.com/profile/KoryAv
 ersa277
ATTACH;FMTTYPE="image/jpeg":http://storage.ning.com/topology/rest/1.0/
 file/get/3054995774?profile=original
ATTENDEE;ROLE=REQ-PARTICIPANT;PARTSTAT=ACCEPTED;RSVP=TRUE;CN="Aversa P
 R & Events":http://phillytodo.com/profile/KoryAversa277
END:VEVENT
END:VCALENDAR
