BEGIN:VCALENDAR
PRODID:NingEventWidget-v1
VERSION:2.0
METHOD:PUBLISH
BEGIN:VEVENT
UID:4320450:Event:2116
DTSTAMP:20260425T125033Z
SUMMARY:Mt. Airy Village Fair
DESCRIPTION:The fourth Mt. Airy Village Fair will take place Sunday, S
 ept. 26, at the intersection of Greene St. and Carpenter Lane, in fron
 t of Weavers Way’s Mt. Airy store. First held in 2006, the Fair star
 ted as a way for the businesses on our corner to thank our vibrant com
 munity for its support. The Fair will focus on interaction and partici
 pation rather than buying and selling, but the primary focus is fun.\n
 Among the attractions will be live entertainment, crafts, carnival gam
 es, a petting zoo, and food from Weavers Way Mt. Airy and the High Poi
 nt Café, plus a Pie-Eating Contest, a Slow Ice Cream-Eating Contest, 
 and the always popular Pet Parade. There will also be a Bicycle Valet,
  sponsored by Mt. Airy Bike Collective, so you can ride your bike to t
 he Fair and they will valet park it for you in a secure area.\nFor mor
 e information, visit www.mtairyvillage.com.\n\nFor more information vi
 sit http://phillytodo.com/events/mt-airy-village-fair
DTSTART:20100926T160000Z
DTEND:20100926T200000Z
CATEGORIES:fair
LOCATION:Greene St. & Carpenter Lane
WEBSITE:http://www.mtairyvillage.com
URL:http://www.mtairyvillage.com
CONTACT:
ORGANIZER;CN="Jon McGoran":http://phillytodo.com/profile/JonMcGoran626
ATTACH;FMTTYPE="image/jpeg":
ATTENDEE;ROLE=REQ-PARTICIPANT;PARTSTAT=ACCEPTED;RSVP=TRUE;CN="Jon McGo
 ran":http://phillytodo.com/profile/JonMcGoran626
END:VEVENT
END:VCALENDAR
