BEGIN:VCALENDAR
PRODID:NingEventWidget-v1
VERSION:2.0
METHOD:PUBLISH
BEGIN:VEVENT
UID:4320450:Event:32965
DTSTAMP:20260425T220453Z
SUMMARY:Movie Under the Stars in West Philly
DESCRIPTION:On July 26, The Salvation Army of Greater Philadelphia wil
 l host a special movie under the stars for families from its West Phil
 adelphia Corps Community Center and the community at large. Families a
 re invited to gather outside the corps community center to view “Elf
 ” starring Will Ferrell beginning at 9:00pm. Refreshments will be av
 ailable. All are invited to attend this free movie showing.\n\nFor mor
 e information about this event visit: http://www.use.salvationarmy.org
 /use/www_use_philadelphiadhq.nsf/vw-dynamic-index/06420A155AE927168525
 7B98006FE6D9?openDocument . \n\nDon’t forget to follow us on Twitte
 r at @SalArmyPhilly  \n\nFor more information visit http://phillytodo
 .com/events/movie-under-the-stars-in-west-philly
DTSTART:20130727T010000Z
DTEND:20130727T030000Z
CATEGORIES:community, movie, event
LOCATION:West Philadelphia Corps Community Center
WEBSITE:http://www.use.salvationarmy.org/use/www_use_philadelphiadhq.n
 sf/vw-dynamic-index/06420A155AE9271685257B98006FE6D9?openDocument
URL:http://www.use.salvationarmy.org/use/www_use_philadelphiadhq.nsf/v
 w-dynamic-index/06420A155AE9271685257B98006FE6D9?openDocument
CONTACT:
ORGANIZER:The Salvation Army
ATTACH;FMTTYPE="image/jpeg":
ATTENDEE;ROLE=REQ-PARTICIPANT;PARTSTAT=ACCEPTED;RSVP=TRUE;CN="Jeremy K
 eys":http://phillytodo.com/profile/JeremyKeys
END:VEVENT
END:VCALENDAR
