BEGIN:VCALENDAR
PRODID:NingEventWidget-v1
VERSION:2.0
METHOD:PUBLISH
BEGIN:VEVENT
UID:4320450:Event:33127
DTSTAMP:20260425T161052Z
SUMMARY:Movie Under the Stars at Temple
DESCRIPTION:On July 19, The Salvation Army of Greater Philadelphia wil
 l host a special movie under the stars for families from its Temple Co
 rps Community Center and the community at large. Families are invited 
 to gather in the athletic field behind the corps community center to v
 iew “Elf” starring Will Ferrell beginning at 9:00pm. Refreshments 
 will be available. All are invited to attend this free movie showing.\
 n\nFor more information about this event visit: http://www.use.salvati
 onarmy.org/use/www_use_philadelphiadhq.nsf/vw-dynamic-index/06420A155A
 E9271685257B98006FE6D9?openDocument . \n\nDon’t forget to follow us
  on Twitter at @SalArmyPhilly  \n\nFor more information visit http://
 phillytodo.com/events/movie-under-the-stars-at-temple
DTSTART:20130720T010000Z
DTEND:20130720T030000Z
CATEGORIES:movie, event
LOCATION:Temple Corps Community Center
WEBSITE:http://www.use.salvationarmy.org/use/www_use_philadelphiadhq.n
 sf/vw-dynamic-index/06420A155AE9271685257B98006FE6D9?openDocument
URL:http://www.use.salvationarmy.org/use/www_use_philadelphiadhq.nsf/v
 w-dynamic-index/06420A155AE9271685257B98006FE6D9?openDocument
CONTACT:
ORGANIZER:The Salvation Army
ATTACH;FMTTYPE="image/jpeg":
ATTENDEE;ROLE=REQ-PARTICIPANT;PARTSTAT=ACCEPTED;RSVP=TRUE;CN="Jeremy K
 eys":http://phillytodo.com/profile/JeremyKeys
END:VEVENT
END:VCALENDAR
