BEGIN:VCALENDAR
PRODID:NingEventWidget-v1
VERSION:2.0
METHOD:PUBLISH
BEGIN:VEVENT
UID:4320450:Event:45287
DTSTAMP:20260425T130712Z
SUMMARY:Movie Screening: Star Wars-The Force Awakens
DESCRIPTION:Join The Market & Shops at Comcast Center for a FREE scree
 ning of Walt Disney Pictures' Star Wars- The Force Awakens starring Da
 isy Ridley & John Boyega. This is a BYO event, and The Market & Shop
 s at Comcast Center will provide FREE popcorn, ice buckets and bottle 
 openers! Remember, vendors will be open to purchase lunch, snacks & b
 everages! \n\nFor more information visit http://phillytodo.com/events
 /movie-screening-star-wars-the-force-awakens
DTSTART:20160430T170000Z
DTEND:20160430T200000Z
CATEGORIES:movie
LOCATION:The Market and Shops at Comcast Center
WEBSITE:https://www.facebook.com/events/1293332880681409/
URL:https://www.facebook.com/events/1293332880681409/
CONTACT:
ORGANIZER;CN=CashmanAssoc:http://phillytodo.com/profile/CashmanAssoc
ATTACH;FMTTYPE="image/jpeg":http://storage.ning.com/topology/rest/1.0/
 file/get/3054996057?profile=original
ATTENDEE;ROLE=REQ-PARTICIPANT;PARTSTAT=ACCEPTED;RSVP=TRUE;CN=CashmanAs
 soc:http://phillytodo.com/profile/CashmanAssoc
END:VEVENT
END:VCALENDAR
