BEGIN:VCALENDAR
PRODID:NingEventWidget-v1
VERSION:2.0
METHOD:PUBLISH
BEGIN:VEVENT
UID:4320450:Event:38796
DTSTAMP:20260425T100017Z
SUMMARY:Movember on the Coast!
DESCRIPTION:Dine with us through out the month of November to see our 
 staff with Moustaches! In honor of Men's Health Awareness Month, the m
 en will be growing moustaches, and the women will be raising money for
  the cause as well. Also, $1 will be donated for every Moustache Sidec
 ar cocktail sold through out the month. Each Moustache Sidecar feature
 s Rittenhouse Rye whiskey, lemon juice, agave nectar, egg white & a bi
 tters moustache. If you would like to donate, please feel free to ask 
 your server for their donation website address, or you can purchase a 
 support bracelet today for $3. Donations go to foundations such as: Li
 vestrong, Patient Advocate Foundation and more.\n\nFor more informatio
 n visit http://phillytodo.com/events/movember-on-the-coast
DTSTART:20141103T160000Z
DTEND:20141201T033000Z
CATEGORIES:drinks, charity
LOCATION:Old City
WEBSITE:http://www.positanocoast.net
URL:http://www.positanocoast.net
CONTACT:(215)238-0499
ORGANIZER;CN="Positano Coast":http://phillytodo.com/profile/PositanoCo
 ast
ATTACH;FMTTYPE="image/jpeg":http://storage.ning.com/topology/rest/1.0/
 file/get/3054980708?profile=original
ATTENDEE;ROLE=REQ-PARTICIPANT;PARTSTAT=ACCEPTED;RSVP=TRUE;CN="Positano
  Coast":http://phillytodo.com/profile/PositanoCoast
END:VEVENT
END:VCALENDAR
