BEGIN:VCALENDAR
PRODID:NingEventWidget-v1
VERSION:2.0
METHOD:PUBLISH
BEGIN:VEVENT
UID:4320450:Event:54693
DTSTAMP:20260425T125023Z
SUMMARY:Mother’s Day Giveaway!
DESCRIPTION:Don't miss your chance to win the Concord Mall Mother’s 
 Day Giveaway, valued at over $350! Enter to win a prize pack of gifts 
 from Hallmark, Relax Now and Ulta!\n\nFor more information visit http:
 //phillytodo.com/events/mother-s-day-giveaway
DTSTART:20180511T040000Z
DTEND:20180512T035900Z
CATEGORIES:holiday
LOCATION:Concord Mall
WEBSITE:http://www.theconcordmall.com
URL:http://www.theconcordmall.com
CONTACT:2156271060
ORGANIZER;CN=CashmanAssoc:http://phillytodo.com/profile/CashmanAssoc
ATTACH;FMTTYPE="image/jpeg":http://storage.ning.com/topology/rest/1.0/
 file/get/3055010345?profile=original
ATTENDEE;ROLE=REQ-PARTICIPANT;PARTSTAT=ACCEPTED;RSVP=TRUE;CN=CashmanAs
 soc:http://phillytodo.com/profile/CashmanAssoc
END:VEVENT
END:VCALENDAR
