BEGIN:VCALENDAR
PRODID:NingEventWidget-v1
VERSION:2.0
METHOD:PUBLISH
BEGIN:VEVENT
UID:4320450:Event:31632
DTSTAMP:20260425T155215Z
SUMMARY:Mother's Day Brunch in the Square
DESCRIPTION:Treat mom to a delicious breakfast in Franklin Square, fol
 lowed by a round of Philly Mini Golf.  Kids can also make a special g
 ift & card for mom (tickets required).\n\nFor more information visit h
 ttp://phillytodo.com/events/mother-s-day-brunch-in-the-square
DTSTART:20130512T180000Z
DTEND:20130512T190000Z
CATEGORIES:"family friendly", brunch
LOCATION:Franklin Square
WEBSITE:http://www.historicphiladelphia.org
URL:http://www.historicphiladelphia.org
CONTACT:215-629-5801
ORGANIZER;CN="Cari Feiler Bender":http://phillytodo.com/profile/CariFe
 ilerBender
ATTACH;FMTTYPE="image/jpeg":http://storage.ning.com/topology/rest/1.0/
 file/get/3054962820?profile=original
ATTENDEE;ROLE=REQ-PARTICIPANT;PARTSTAT=ACCEPTED;RSVP=TRUE;CN="Cari Fei
 ler Bender":http://phillytodo.com/profile/CariFeilerBender
END:VEVENT
END:VCALENDAR
