BEGIN:VCALENDAR
PRODID:NingEventWidget-v1
VERSION:2.0
METHOD:PUBLISH
BEGIN:VEVENT
UID:4320450:Event:58304
DTSTAMP:20260425T132636Z
SUMMARY:Mother's Day Brunch at XIX
DESCRIPTION:Location: XIX (Nineteen) Restaurant\n \nDate: May 12\n \
 nTime: 11:00am – 3:00pm\n \nDescription: Indulge the leading ladies
  in your life as XIX Restaurant hosts an elegant Mother’s Day Brunch
 . XIX provides the ultimate scenic setting for Mom to bask in the glow
  of the holiday from the sun-kissed dining room – floating 19 floors
  above the city. Enjoy XIX’s signature brunch items including the ra
 w bar, salads, fruit, and cheese selections. Curated for Mother’s Da
 y, special menu items include Braised Lamb Shank (served with French b
 eans, yellow foot chanterelles, and parmesan risotto), and Herb and Ma
 cadamia Nut Crusted Barramundi (served with quinoa, pattypan squash, b
 raised leek, and beurre blanc). XIX’s signature Maryland Crab Cake B
 enedict will also be available. Dessert offerings include fresh fruit 
 tarts, peaches and cream bread pudding, blackberry hibiscus cream puff
 s, and lavender madeleines.\n \nCost: $75 for adults and $38 for chil
 dren\n \nWebsite:thebellevuehotel.com\n\nFor more information visit h
 ttp://phillytodo.com/events/mother-s-day-brunch-at-xix
DTSTART:20190512T150000Z
DTEND:20190512T190000Z
CATEGORIES:brunch
LOCATION:XIX Restaurant
WEBSITE:
URL:
CONTACT:
ORGANIZER;CN="Bryan Chan":http://phillytodo.com/profile/BryanChan
ATTACH;FMTTYPE="image/jpeg":
ATTENDEE;ROLE=REQ-PARTICIPANT;PARTSTAT=ACCEPTED;RSVP=TRUE;CN="Bryan Ch
 an":http://phillytodo.com/profile/BryanChan
END:VEVENT
END:VCALENDAR
