BEGIN:VCALENDAR
PRODID:NingEventWidget-v1
VERSION:2.0
METHOD:PUBLISH
BEGIN:VEVENT
UID:4320450:Event:169211
DTSTAMP:20260425T112430Z
SUMMARY:Motel Montana
DESCRIPTION:A colorful, glittery explosion from the start, the 50-minu
 te theatrical production Motel Montana has been captivating audiences 
 since it premiered in September. The continually sold-out performance 
 was slated to end October 30 but will continue through Sunday, Novembe
 r 14, allowing for eight additional performances. The extension makes 
 Motel Montana the longest-running Gunnar Montana Productions show to d
 ate. \n The queer-friendly, seductive show hosted at The Latvian Soci
 ety of Philadelphia is outlandish and energy-fueled, led by Montana an
 d his talented team of dancers. Together, they take audience members o
 n a glamorous, high-energy walk to the wild side. Every aspect of the 
 show has been carefully choreographed by Montana, from the neon-filled
  set design, costumes, and performances, to the pop-infused rollercoas
 ter soundtrack. Over the last decade, Montana has worked tirelessly to
  make his productions immersive theatrical experiences that audiences 
 will not soon forget; Motel Montana is just that.\n\nFor more informat
 ion visit http://phillytodo.com/events/motel-montana
DTSTART:20211104T233000Z
DTEND:20211105T003000Z
CATEGORIES:theater
LOCATION:The Latvian Society of Philadelphia
WEBSITE:
URL:
CONTACT:
ORGANIZER:Gunnar Montana Productions
ATTACH;FMTTYPE="image/jpeg":https://storage.ning.com/topology/rest/1.0
 /file/get/9715870468?profile=original
ATTENDEE;ROLE=REQ-PARTICIPANT;PARTSTAT=ACCEPTED;RSVP=TRUE;CN="Bryan Ch
 an":http://phillytodo.com/profile/BryanChan
END:VEVENT
END:VCALENDAR
