BEGIN:VCALENDAR
PRODID:NingEventWidget-v1
VERSION:2.0
METHOD:PUBLISH
BEGIN:VEVENT
UID:4320450:Event:33440
DTSTAMP:20260425T142613Z
SUMMARY:\"Montoj\" Perfroms on Concert Stage
DESCRIPTION:Join us as \"Montoj\" performs live on the outdoor concert
  stage starting at 8pm.Contact parties@xfinitylive.com to add your nam
 e to the guest list and to book your VIP Party during the show.Free pa
 rking is available after 5:05PM.\n\nFor more information visit http://
 phillytodo.com/events/montoj-perfroms-on-concert-stage
DTSTART:20130804T000000Z
DTEND:20130804T040000Z
CATEGORIES:live, music
LOCATION:XFINITY Live! Philadelphia
WEBSITE:http://www.xfinitylive.com
URL:http://www.xfinitylive.com
CONTACT:215-609-1678
ORGANIZER;CN="Stepfanie McCaffrey":http://phillytodo.com/profile/Stepf
 anieMcCaffrey
ATTACH;FMTTYPE="image/jpeg":
ATTENDEE;ROLE=REQ-PARTICIPANT;PARTSTAT=ACCEPTED;RSVP=TRUE;CN="Stepfani
 e McCaffrey":http://phillytodo.com/profile/StepfanieMcCaffrey
END:VEVENT
END:VCALENDAR
