BEGIN:VCALENDAR
PRODID:NingEventWidget-v1
VERSION:2.0
METHOD:PUBLISH
BEGIN:VEVENT
UID:4320450:Event:34105
DTSTAMP:20260425T160207Z
SUMMARY:\"Montoj\" Performs on Concert Stage
DESCRIPTION:Join us as \"Montoj\" performs live on the outdoor concert
  stage starting at 8pm.Contact parties@xfinitylive.com to add your n
 ame to the guest list and to book your VIP Party during the show.Free 
 parking is available after 8:30pm.\n\nFor more information visit http:
 //phillytodo.com/events/montoj-performs-on-concert-stage
DTSTART:20130816T000000Z
DTEND:20130816T040000Z
CATEGORIES:live, music
LOCATION:XFINITY Live! Philadelphia
WEBSITE:http://xfinitylive.com
URL:http://xfinitylive.com
CONTACT:215-609-1678
ORGANIZER;CN="Stepfanie McCaffrey":http://phillytodo.com/profile/Stepf
 anieMcCaffrey
ATTACH;FMTTYPE="image/jpeg":http://storage.ning.com/topology/rest/1.0/
 file/get/3054966848?profile=original
ATTENDEE;ROLE=REQ-PARTICIPANT;PARTSTAT=ACCEPTED;RSVP=TRUE;CN="Stepfani
 e McCaffrey":http://phillytodo.com/profile/StepfanieMcCaffrey
END:VEVENT
END:VCALENDAR
