BEGIN:VCALENDAR
PRODID:NingEventWidget-v1
VERSION:2.0
METHOD:PUBLISH
BEGIN:VEVENT
UID:4320450:Event:34492
DTSTAMP:20260425T181129Z
SUMMARY:Monster Jam Family & Movie Night Featuring Disney's \"Monsters
  Inc\"
DESCRIPTION:Bring the family out for a night of fun on Monday, Septemb
 er 23rd starting at 5pm for our Monster Jam Family Fun and Movie Night
  featuring Disney's \"Monster's Inc.\"Tons of games and activities inc
 luding:- Hot Wheels Build Your Own Monster Truck- Dirt Dig for Prizes 
 & Tickets- Monster Jam Video Game- Coloring Sheets- MUCH MORE!Specialt
 y themed kids menus will also be available.FREE EVENT, FREE PARKING, F
 REE POPCORN!!\n\nFor more information visit http://phillytodo.com/even
 ts/monster-jam-family-movie-night-featuring-disney-s-monsters-inc
DTSTART:20130923T210000Z
DTEND:20130924T000000Z
CATEGORIES:free, movie, night
LOCATION:XFINITY Live! Philadelphia
WEBSITE:http://xfinitylive.com/index.cfm
URL:http://xfinitylive.com/index.cfm
CONTACT:215-609-1678
ORGANIZER;CN="Stepfanie McCaffrey":http://phillytodo.com/profile/Stepf
 anieMcCaffrey
ATTACH;FMTTYPE="image/jpeg":
ATTENDEE;ROLE=REQ-PARTICIPANT;PARTSTAT=ACCEPTED;RSVP=TRUE;CN="Stepfani
 e McCaffrey":http://phillytodo.com/profile/StepfanieMcCaffrey
END:VEVENT
END:VCALENDAR
