BEGIN:VCALENDAR
PRODID:NingEventWidget-v1
VERSION:2.0
METHOD:PUBLISH
BEGIN:VEVENT
UID:4320450:Event:44506
DTSTAMP:20260425T161153Z
SUMMARY:Monday Soul Sessions at the Hard Rock Cafe
DESCRIPTION:Musicians and fans of Philly Soul music will have a new ho
 t spot when Mole Street Artists presents Soul Sessions at the Hard Roc
 k Cafe, hosted by renowned pianist Luke Carlos O’Reilly.  The band 
 will set the tone with R&B and soul jams to entertain the crowd and ea
 ch night they will invite special guests and audience members up on st
 age—you will be waiting all weekend for Monday night at the Hard Roc
 k Cafe.\n\nFor more information visit http://phillytodo.com/events/mon
 day-soul-sessions-at-the-hard-rock-cafe
DTSTART:20160112T010000Z
DTEND:20160112T040000Z
CATEGORIES:live, music
LOCATION:Hard Rock Cafe Philadelphia
WEBSITE:http://www.hrcphillymusic.com/event/1048129-soul-sessions-hard
 -rock-cafe-philadelphia/
URL:http://www.hrcphillymusic.com/event/1048129-soul-sessions-hard-roc
 k-cafe-philadelphia/
CONTACT:215-627-1060
ORGANIZER:Hard Rock Cafe Philadelphia
ATTACH;FMTTYPE="image/jpeg":http://storage.ning.com/topology/rest/1.0/
 file/get/3054990895?profile=original
ATTENDEE;ROLE=REQ-PARTICIPANT;PARTSTAT=ACCEPTED;RSVP=TRUE;CN=CashmanAs
 soc:http://phillytodo.com/profile/CashmanAssoc
END:VEVENT
END:VCALENDAR
