BEGIN:VCALENDAR
PRODID:NingEventWidget-v1
VERSION:2.0
METHOD:PUBLISH
BEGIN:VEVENT
UID:4320450:Event:44955
DTSTAMP:20260425T143228Z
SUMMARY:Monday Soul Sessions at the Hard Rock Cafe
DESCRIPTION:Musicians and fans of Philly Soul music will have a new ho
 t spot when Mole Street Artists presents Soul Sessions at the Hard Roc
 k Cafe, hosted by renowned pianist Luke Carlos O'Reilly. The band will
  set the tone with R&B and soul jams to entertain the crowd and each n
 ight they will invite special guests and audience members up on stage-
 -you will be waiting all weekend for Monday night at the Hard Rock Caf
 e.\nFebruary 15 | February 22\n\nFor more information visit http://phi
 llytodo.com/events/monday-soul-sessions-at-the-hard-rock-cafe-1
DTSTART:20160216T010000Z
DTEND:20160216T040000Z
CATEGORIES:live, band
LOCATION:Hard Rock Cafe Philadelphia
WEBSITE:
URL:
CONTACT:
ORGANIZER:Hard Rock Cafe Philadelphia
ATTACH;FMTTYPE="image/jpeg":http://storage.ning.com/topology/rest/1.0/
 file/get/3054991270?profile=original
ATTENDEE;ROLE=REQ-PARTICIPANT;PARTSTAT=ACCEPTED;RSVP=TRUE;CN=CashmanAs
 soc:http://phillytodo.com/profile/CashmanAssoc
END:VEVENT
END:VCALENDAR
